BEGIN:VCALENDAR
VERSION:2.0
PRODID:-//Trade Travel Chill - ECPv6.15.20//NONSGML v1.0//EN
CALSCALE:GREGORIAN
METHOD:PUBLISH
X-WR-CALNAME:Trade Travel Chill
X-ORIGINAL-URL:https://tradetravelchill.club/bg/
X-WR-CALDESC:Събития за Trade Travel Chill
REFRESH-INTERVAL;VALUE=DURATION:PT1H
X-Robots-Tag:noindex
X-PUBLISHED-TTL:PT1H
BEGIN:VTIMEZONE
TZID:America/New_York
BEGIN:DAYLIGHT
TZOFFSETFROM:-0500
TZOFFSETTO:-0400
TZNAME:EDT
DTSTART:20240310T070000
END:DAYLIGHT
BEGIN:STANDARD
TZOFFSETFROM:-0400
TZOFFSETTO:-0500
TZNAME:EST
DTSTART:20241103T060000
END:STANDARD
BEGIN:DAYLIGHT
TZOFFSETFROM:-0500
TZOFFSETTO:-0400
TZNAME:EDT
DTSTART:20250309T070000
END:DAYLIGHT
BEGIN:STANDARD
TZOFFSETFROM:-0400
TZOFFSETTO:-0500
TZNAME:EST
DTSTART:20251102T060000
END:STANDARD
BEGIN:DAYLIGHT
TZOFFSETFROM:-0500
TZOFFSETTO:-0400
TZNAME:EDT
DTSTART:20260308T070000
END:DAYLIGHT
BEGIN:STANDARD
TZOFFSETFROM:-0400
TZOFFSETTO:-0500
TZNAME:EST
DTSTART:20261101T060000
END:STANDARD
END:VTIMEZONE
BEGIN:VEVENT
DTSTART;TZID=America/New_York:20251204T023000
DTEND;TZID=America/New_York:20251204T040000
DTSTAMP:20260423T014132
CREATED:20251130T073701Z
LAST-MODIFIED:20251130T074004Z
UID:10011369-1764815400-1764820800@tradetravelchill.club
SUMMARY:Сесия за търговия на живо
DESCRIPTION:Присъединете се към нас за сесии за търговия на живо\, водени от нашия опитен екип! 🚀 Получете прозрения в реално време за движенията на пазара\, научете се да разпознавате най-добрите входни точки и разберете стратегиите зад всяко решение. Тези сесии са създадени\, за да ви помогнат да усъвършенствате търговските си умения и да спечелите увереност при навигацията на пазарите.
URL:https://tradetravelchill.club/bg/session/%d1%81%d0%b5%d1%81%d0%b8%d1%8f-%d0%b7%d0%b0-%d1%82%d1%8a%d1%80%d0%b3%d0%be%d0%b2%d0%b8%d1%8f-%d0%bd%d0%b0-%d0%b6%d0%b8%d0%b2%d0%be-2/2025-12-04/
CATEGORIES:Сесия за търговия на живо
ATTACH;FMTTYPE=image/png:https://tradetravelchill.club/wp-content/uploads/2025/09/Live-Trading-Call.png
END:VEVENT
BEGIN:VEVENT
DTSTART;TZID=America/New_York:20251204T030000
DTEND;TZID=America/New_York:20251204T033000
DTSTAMP:20260423T014132
CREATED:20251130T080224Z
LAST-MODIFIED:20251130T121919Z
UID:10011522-1764817200-1764819000@tradetravelchill.club
SUMMARY:ЮК Лайв Среща
DESCRIPTION:Присъединете се към нас за Живи сесии за Обединеното кралство\, водени от нашия опитен екип Cabin Crew! 🚀 Получете реални пазарни прозрения\, научете се как да идентифицирате най-добрите входни точки и разберете стратегиите зад всяко решение. Тези сесии са създадени\, за да ви помогнат да усъвършенствате своите трейдинг умения и да придобиете увереност в навигирането на пазарите.
URL:https://tradetravelchill.club/bg/session/%d1%8e%d0%ba-%d0%bb%d0%b0%d0%b9%d0%b2-%d1%81%d1%80%d0%b5%d1%89%d0%b0/2025-12-04/
ATTACH;FMTTYPE=image/png:https://tradetravelchill.club/wp-content/uploads/2025/10/UK-SESSION-LIVE-bulgarian-community.png
END:VEVENT
BEGIN:VEVENT
DTSTART;TZID=America/New_York:20251204T080000
DTEND;TZID=America/New_York:20251204T083000
DTSTAMP:20260423T014132
CREATED:20251130T065805Z
LAST-MODIFIED:20251130T070059Z
UID:10011194-1764835200-1764837000@tradetravelchill.club
SUMMARY:Сесия на САЩ
DESCRIPTION:Треньори: Коди\, Джанет и Мик\nКой трябва да присъства: Членове\, готови да правят сделки\, използвайки системата TBD\, които искат да търгуват с дневната настройка в днешната сесия на САЩ. \nВ тази сесия екипажът ще прегледа дневната настройка и ще обсъди последните пазарни движения\, както и предстоящите новини\, за които трябва да се внимава.
URL:https://tradetravelchill.club/bg/session/%d1%81%d0%b5%d1%81%d0%b8%d1%8f-%d0%bd%d0%b0-%d1%81%d0%b0%d1%89/2025-12-04/
CATEGORIES:Сесия на САЩ
ATTACH;FMTTYPE=image/png:https://tradetravelchill.club/wp-content/uploads/2025/09/US-session-Live-Call.png
END:VEVENT
BEGIN:VEVENT
DTSTART;TZID=America/New_York:20251204T203000
DTEND;TZID=America/New_York:20251204T213000
DTSTAMP:20260423T014132
CREATED:20251130T072053Z
LAST-MODIFIED:20251130T075517Z
UID:10011505-1764880200-1764883800@tradetravelchill.club
SUMMARY:Общностно събиране с Коди
DESCRIPTION:Присъединете се към екипа\, за да обсъдите тема от курса и просто да си поговорите за всичко\, свързано с метода
URL:https://tradetravelchill.club/bg/session/%d0%be%d0%b1%d1%89%d0%bd%d0%be%d1%81%d1%82%d0%bd%d0%be-%d1%81%d1%8a%d0%b1%d0%b8%d1%80%d0%b0%d0%bd%d0%b5-%d1%81-%d0%ba%d0%be%d0%b4%d0%b8/2025-12-04/
CATEGORIES:Срещи на общността
ATTACH;FMTTYPE=image/png:https://tradetravelchill.club/wp-content/uploads/2025/09/Community-Hangout-Live-Call.png
END:VEVENT
END:VCALENDAR