BEGIN:VCALENDAR
VERSION:2.0
PRODID:-//Trade Travel Chill - ECPv6.15.20//NONSGML v1.0//EN
CALSCALE:GREGORIAN
METHOD:PUBLISH
X-ORIGINAL-URL:https://tradetravelchill.club/bg/
X-WR-CALDESC:Събития за Trade Travel Chill
REFRESH-INTERVAL;VALUE=DURATION:PT1H
X-Robots-Tag:noindex
X-PUBLISHED-TTL:PT1H
BEGIN:VTIMEZONE
TZID:America/New_York
BEGIN:DAYLIGHT
TZOFFSETFROM:-0500
TZOFFSETTO:-0400
TZNAME:EDT
DTSTART:20250309T070000
END:DAYLIGHT
BEGIN:STANDARD
TZOFFSETFROM:-0400
TZOFFSETTO:-0500
TZNAME:EST
DTSTART:20251102T060000
END:STANDARD
BEGIN:DAYLIGHT
TZOFFSETFROM:-0500
TZOFFSETTO:-0400
TZNAME:EDT
DTSTART:20260308T070000
END:DAYLIGHT
BEGIN:STANDARD
TZOFFSETFROM:-0400
TZOFFSETTO:-0500
TZNAME:EST
DTSTART:20261101T060000
END:STANDARD
BEGIN:DAYLIGHT
TZOFFSETFROM:-0500
TZOFFSETTO:-0400
TZNAME:EDT
DTSTART:20270314T070000
END:DAYLIGHT
BEGIN:STANDARD
TZOFFSETFROM:-0400
TZOFFSETTO:-0500
TZNAME:EST
DTSTART:20271107T060000
END:STANDARD
END:VTIMEZONE
BEGIN:VEVENT
DTSTART;TZID=America/New_York:20260225T023000
DTEND;TZID=America/New_York:20260225T030000
DTSTAMP:20260421T073330
CREATED:20260129T102929Z
LAST-MODIFIED:20260203T113105Z
UID:10011860-1771986600-1771988400@tradetravelchill.club
SUMMARY:ЮК Сесия
DESCRIPTION:: Cajun\, Cody & Katie\nКой трябва да присъства: Членове\, готови да правят сделки\, използвайки системата TBD\, които искат да търгуват с дневната настройка в днешната сесия на Обединеното кралство. \nВ тази сесия екипажът ще прегледа дневната настройка и ще обсъди последните пазарни движения\, както и предстоящите новини\, за които трябва да се внимава.
URL:https://tradetravelchill.club/bg/session/%d1%81%d0%b5%d1%81%d0%b8%d1%8f-%d0%b2%d1%8a%d0%b2-%d0%b2%d0%b5%d0%bb%d0%b8%d0%ba%d0%be%d0%b1%d1%80%d0%b8%d1%82%d0%b0%d0%bd%d0%b8%d1%8f-3/2026-02-25/
CATEGORIES:Сесия във Великобритания
ATTACH;FMTTYPE=image/png:https://tradetravelchill.club/wp-content/uploads/2025/09/UK-session-Live-Call.png
END:VEVENT
BEGIN:VEVENT
DTSTART;TZID=America/New_York:20260225T030000
DTEND;TZID=America/New_York:20260225T033000
DTSTAMP:20260421T073330
CREATED:20260202T071515Z
LAST-MODIFIED:20260202T071515Z
UID:10011927-1771988400-1771990200@tradetravelchill.club
SUMMARY:ЮК Лайв Среща
DESCRIPTION:Присъединете се към нас за Живи сесии за Обединеното кралство\, водени от нашия опитен екип Cabin Crew! 🚀 Получете реални пазарни прозрения\, научете се как да идентифицирате най-добрите входни точки и разберете стратегиите зад всяко решение. Тези сесии са създадени\, за да ви помогнат да усъвършенствате своите трейдинг умения и да придобиете увереност в навигирането на пазарите.
URL:https://tradetravelchill.club/bg/session/%d1%8e%d0%ba-%d0%bb%d0%b0%d0%b9%d0%b2-%d1%81%d1%80%d0%b5%d1%89%d0%b0-2/2026-02-25/
ATTACH;FMTTYPE=image/png:https://tradetravelchill.club/wp-content/uploads/2025/10/UK-SESSION-LIVE-bulgarian-community.png
END:VEVENT
BEGIN:VEVENT
DTSTART;TZID=America/New_York:20260225T080000
DTEND;TZID=America/New_York:20260225T083000
DTSTAMP:20260421T073330
CREATED:20260129T103324Z
LAST-MODIFIED:20260203T112738Z
UID:10011879-1772006400-1772008200@tradetravelchill.club
SUMMARY:ЮС Сесия
DESCRIPTION:Треньор: Jarrid\, Cajun & Janet\nКой трябва да присъства: Членове\, готови да правят сделки\, използвайки системата TBD\, които искат да търгуват с дневната настройка в днешната сесия на САЩ. \nВ тази сесия екипажът ще прегледа дневната настройка и ще обсъди последните пазарни движения\, както и предстоящите новини\, за които трябва да се внимава.
URL:https://tradetravelchill.club/bg/session/%d1%81%d0%b5%d1%81%d0%b8%d1%8f-%d0%bd%d0%b0-%d1%81%d0%b0%d1%89-3/2026-02-25/
CATEGORIES:Сесия на САЩ
ATTACH;FMTTYPE=image/png:https://tradetravelchill.club/wp-content/uploads/2025/09/US-session-Live-Call.png
END:VEVENT
BEGIN:VEVENT
DTSTART;TZID=America/New_York:20260225T120000
DTEND;TZID=America/New_York:20260225T130000
DTSTAMP:20260421T073330
CREATED:20260202T070523Z
LAST-MODIFIED:20260202T070523Z
UID:10011909-1772020800-1772024400@tradetravelchill.club
SUMMARY:Общностен Ханг-аут
DESCRIPTION:Присъединете се към екипа\, за да обсъдите тема от курса и да проведете свободен разговор за всичко\, свързано с метода.
URL:https://tradetravelchill.club/bg/session/%d0%be%d0%b1%d1%89%d0%bd%d0%be%d1%81%d1%82%d0%b5%d0%bd-%d1%85%d0%b0%d0%bd%d0%b3-%d0%b0%d1%83%d1%82-2/2026-02-25/
ATTACH;FMTTYPE=image/png:https://tradetravelchill.club/wp-content/uploads/2025/10/Live-Call-Community-Hangout-bulgarian-community.png
END:VEVENT
BEGIN:VEVENT
DTSTART;TZID=America/New_York:20260225T193000
DTEND;TZID=America/New_York:20260225T200000
DTSTAMP:20260421T073330
CREATED:20260129T104514Z
LAST-MODIFIED:20260203T113244Z
UID:10011845-1772047800-1772049600@tradetravelchill.club
SUMMARY:Азия Сесия
DESCRIPTION:Треньор: NRJ & Cody\nКой трябва да присъства: Членове\, готови да сключват сделки с помощта на системата TBD и които искат да търгуват с дневната настройка в днешната азиатска сесия. \nВ тази сесия екипажът ще прегледа дневната настройка и ще обсъди последните пазарни движения\, както и предстоящите новини\, за които трябва да се внимава.
URL:https://tradetravelchill.club/bg/session/%d0%b0%d0%b7%d0%b8%d0%b0%d1%82%d1%81%d0%ba%d0%b0-%d1%81%d0%b5%d1%81%d0%b8%d1%8f-3/2026-02-25/
CATEGORIES:Азиатска сесия
ATTACH;FMTTYPE=image/png:https://tradetravelchill.club/wp-content/uploads/2025/09/Asia-Session-Live-Call.png
END:VEVENT
END:VCALENDAR