BEGIN:VCALENDAR
VERSION:2.0
PRODID:-//Trade Travel Chill - ECPv6.15.20//NONSGML v1.0//EN
CALSCALE:GREGORIAN
METHOD:PUBLISH
X-ORIGINAL-URL:https://tradetravelchill.club/es/
X-WR-CALDESC:Eventos para Trade Travel Chill
REFRESH-INTERVAL;VALUE=DURATION:PT1H
X-Robots-Tag:noindex
X-PUBLISHED-TTL:PT1H
BEGIN:VTIMEZONE
TZID:America/New_York
BEGIN:DAYLIGHT
TZOFFSETFROM:-0500
TZOFFSETTO:-0400
TZNAME:EDT
DTSTART:20240310T070000
END:DAYLIGHT
BEGIN:STANDARD
TZOFFSETFROM:-0400
TZOFFSETTO:-0500
TZNAME:EST
DTSTART:20241103T060000
END:STANDARD
BEGIN:DAYLIGHT
TZOFFSETFROM:-0500
TZOFFSETTO:-0400
TZNAME:EDT
DTSTART:20250309T070000
END:DAYLIGHT
BEGIN:STANDARD
TZOFFSETFROM:-0400
TZOFFSETTO:-0500
TZNAME:EST
DTSTART:20251102T060000
END:STANDARD
BEGIN:DAYLIGHT
TZOFFSETFROM:-0500
TZOFFSETTO:-0400
TZNAME:EDT
DTSTART:20260308T070000
END:DAYLIGHT
BEGIN:STANDARD
TZOFFSETFROM:-0400
TZOFFSETTO:-0500
TZNAME:EST
DTSTART:20261101T060000
END:STANDARD
END:VTIMEZONE
BEGIN:VEVENT
DTSTART;TZID=America/New_York:20250626T023000
DTEND;TZID=America/New_York:20250626T040000
DTSTAMP:20260422T092509
CREATED:20250530T120754Z
LAST-MODIFIED:20250704T070935Z
UID:10008892-1750905000-1750910400@tradetravelchill.club
SUMMARY:Sesión de Trading en Vivo
DESCRIPTION:¡Únete a nosotros en sesiones de trading en vivo organizadas por nuestro experimentado equipo de cabina! 🚀 Obtén información en tiempo real sobre los movimientos del mercado\, aprende a identificar los mejores puntos de entrada y comprende las estrategias detrás de cada decisión. Estas sesiones están diseñadas para ayudarte a mejorar tus habilidades de trading y ganar confianza al operar en los mercados.
URL:https://tradetravelchill.club/es/session/sesion-de-trading-en-vivo-6/2025-06-26/
CATEGORIES:Sesión de Trading en Vivo
ATTACH;FMTTYPE=image/png:https://tradetravelchill.club/wp-content/uploads/2025/05/Live-Trading-Session.png
END:VEVENT
BEGIN:VEVENT
DTSTART;TZID=America/New_York:20250626T203000
DTEND;TZID=America/New_York:20250626T213000
DTSTAMP:20260422T092509
CREATED:20250530T112516Z
LAST-MODIFIED:20250704T071645Z
UID:10009013-1750969800-1750973400@tradetravelchill.club
SUMMARY:Encuentro Comunitario con NRJ
DESCRIPTION:Únete al equipo para debatir un tema del curso y charlar sobre todo lo relacionado con el método.
URL:https://tradetravelchill.club/es/session/encuentro-comunitario-con-nrj/2025-06-26/
CATEGORIES:Reuniones de la Comunidad
ATTACH;FMTTYPE=image/png:https://tradetravelchill.club/wp-content/uploads/2023/05/Communinty-Hangout.png
END:VEVENT
END:VCALENDAR