BEGIN:VCALENDAR
VERSION:2.0
PRODID:-//Trade Travel Chill - ECPv6.15.20//NONSGML v1.0//EN
CALSCALE:GREGORIAN
METHOD:PUBLISH
X-WR-CALNAME:Trade Travel Chill
X-ORIGINAL-URL:https://tradetravelchill.club/es/
X-WR-CALDESC:Eventos para Trade Travel Chill
REFRESH-INTERVAL;VALUE=DURATION:PT1H
X-Robots-Tag:noindex
X-PUBLISHED-TTL:PT1H
BEGIN:VTIMEZONE
TZID:America/New_York
BEGIN:DAYLIGHT
TZOFFSETFROM:-0500
TZOFFSETTO:-0400
TZNAME:EDT
DTSTART:20240310T070000
END:DAYLIGHT
BEGIN:STANDARD
TZOFFSETFROM:-0400
TZOFFSETTO:-0500
TZNAME:EST
DTSTART:20241103T060000
END:STANDARD
BEGIN:DAYLIGHT
TZOFFSETFROM:-0500
TZOFFSETTO:-0400
TZNAME:EDT
DTSTART:20250309T070000
END:DAYLIGHT
BEGIN:STANDARD
TZOFFSETFROM:-0400
TZOFFSETTO:-0500
TZNAME:EST
DTSTART:20251102T060000
END:STANDARD
BEGIN:DAYLIGHT
TZOFFSETFROM:-0500
TZOFFSETTO:-0400
TZNAME:EDT
DTSTART:20260308T070000
END:DAYLIGHT
BEGIN:STANDARD
TZOFFSETFROM:-0400
TZOFFSETTO:-0500
TZNAME:EST
DTSTART:20261101T060000
END:STANDARD
END:VTIMEZONE
BEGIN:VEVENT
DTSTART;TZID=America/New_York:20250713T193000
DTEND;TZID=America/New_York:20250713T200000
DTSTAMP:20260421T235206
CREATED:20250629T073411Z
LAST-MODIFIED:20250629T073411Z
UID:10009434-1752435000-1752436800@tradetravelchill.club
SUMMARY:Sesión Asiática
DESCRIPTION:Entrenador: Cody\n¿Quién debe asistir? Miembros listos para realizar operaciones utilizando el sistema TBD y que deseen operar con la configuración diaria en la sesión asiática de hoy. \nEn esta sesión\, el equipo de la cabina revisará la configuración diaria y discutirá la acción reciente de los precios\, así como los eventos de noticias próximos de los que debe estar al tanto.
URL:https://tradetravelchill.club/es/session/sesion-asiatica-2/2025-07-13/
CATEGORIES:Sesión Asiática
ATTACH;FMTTYPE=image/png:https://tradetravelchill.club/wp-content/uploads/2025/05/Asia-Session.png
END:VEVENT
END:VCALENDAR