BEGIN:VCALENDAR
VERSION:2.0
PRODID:-//Trade Travel Chill - ECPv6.15.20//NONSGML v1.0//EN
CALSCALE:GREGORIAN
METHOD:PUBLISH
X-WR-CALNAME:Trade Travel Chill
X-ORIGINAL-URL:https://tradetravelchill.club/es/
X-WR-CALDESC:Eventos para Trade Travel Chill
REFRESH-INTERVAL;VALUE=DURATION:PT1H
X-Robots-Tag:noindex
X-PUBLISHED-TTL:PT1H
BEGIN:VTIMEZONE
TZID:America/New_York
BEGIN:DAYLIGHT
TZOFFSETFROM:-0500
TZOFFSETTO:-0400
TZNAME:EDT
DTSTART:20240310T070000
END:DAYLIGHT
BEGIN:STANDARD
TZOFFSETFROM:-0400
TZOFFSETTO:-0500
TZNAME:EST
DTSTART:20241103T060000
END:STANDARD
BEGIN:DAYLIGHT
TZOFFSETFROM:-0500
TZOFFSETTO:-0400
TZNAME:EDT
DTSTART:20250309T070000
END:DAYLIGHT
BEGIN:STANDARD
TZOFFSETFROM:-0400
TZOFFSETTO:-0500
TZNAME:EST
DTSTART:20251102T060000
END:STANDARD
BEGIN:DAYLIGHT
TZOFFSETFROM:-0500
TZOFFSETTO:-0400
TZNAME:EDT
DTSTART:20260308T070000
END:DAYLIGHT
BEGIN:STANDARD
TZOFFSETFROM:-0400
TZOFFSETTO:-0500
TZNAME:EST
DTSTART:20261101T060000
END:STANDARD
END:VTIMEZONE
BEGIN:VEVENT
DTSTART;TZID=America/New_York:20250701T023000
DTEND;TZID=America/New_York:20250701T030000
DTSTAMP:20260421T221755
CREATED:20250629T074515Z
LAST-MODIFIED:20250629T074515Z
UID:10009466-1751337000-1751338800@tradetravelchill.club
SUMMARY:Sesión del Reino Unido
DESCRIPTION:Entrenadores: Cody y CajunSpice\n¿Quién debe asistir? Miembros listos para realizar operaciones utilizando el sistema TBD y que deseen operar con la configuración diaria en la sesión del Reino Unido de hoy. \nEn esta sesión\, el equipo Cabin Crew repasará la configuración diaria y hablará sobre la acción reciente del precio\, así como los próximos eventos noticiosos que se deben tener en cuenta.
URL:https://tradetravelchill.club/es/session/sesion-del-reino-unido-8/2025-07-01/
CATEGORIES:Sesión del Reino Unido
ATTACH;FMTTYPE=image/png:https://tradetravelchill.club/wp-content/uploads/2025/05/UK-Session.png
END:VEVENT
BEGIN:VEVENT
DTSTART;TZID=America/New_York:20250701T080000
DTEND;TZID=America/New_York:20250701T083000
DTSTAMP:20260421T221755
CREATED:20250629T075635Z
LAST-MODIFIED:20250629T075635Z
UID:10009443-1751356800-1751358600@tradetravelchill.club
SUMMARY:Sesión de EE. UU
DESCRIPTION:Entrenadores: Cody\, Janet y Mick\n¿Quién debe asistir? Miembros listos para realizar operaciones usando el sistema TBD que desean operar con la configuración diaria en la sesión de EE. UU. de hoy. \nEn esta sesión\, el equipo de la cabina revisará la configuración diaria y discutirá la acción reciente de los precios\, así como los eventos de noticias próximos de los que debe estar al tanto.
URL:https://tradetravelchill.club/es/session/sesion-de-ee-uu-3/2025-07-01/
CATEGORIES:Sesión de EE. UU
ATTACH;FMTTYPE=image/png:https://tradetravelchill.club/wp-content/uploads/2025/05/US-Session.png
END:VEVENT
BEGIN:VEVENT
DTSTART;TZID=America/New_York:20250701T193000
DTEND;TZID=America/New_York:20250701T200000
DTSTAMP:20260421T221755
CREATED:20250629T073411Z
LAST-MODIFIED:20250629T073411Z
UID:10009429-1751398200-1751400000@tradetravelchill.club
SUMMARY:Sesión Asiática
DESCRIPTION:Entrenador: Cody\n¿Quién debe asistir? Miembros listos para realizar operaciones utilizando el sistema TBD y que deseen operar con la configuración diaria en la sesión asiática de hoy. \nEn esta sesión\, el equipo de la cabina revisará la configuración diaria y discutirá la acción reciente de los precios\, así como los eventos de noticias próximos de los que debe estar al tanto.
URL:https://tradetravelchill.club/es/session/sesion-asiatica-2/2025-07-01/
CATEGORIES:Sesión Asiática
ATTACH;FMTTYPE=image/png:https://tradetravelchill.club/wp-content/uploads/2025/05/Asia-Session.png
END:VEVENT
BEGIN:VEVENT
DTSTART;TZID=America/New_York:20250702T023000
DTEND;TZID=America/New_York:20250702T030000
DTSTAMP:20260421T221755
CREATED:20250629T074515Z
LAST-MODIFIED:20250629T074515Z
UID:10009467-1751423400-1751425200@tradetravelchill.club
SUMMARY:Sesión del Reino Unido
DESCRIPTION:Entrenadores: Cody y CajunSpice\n¿Quién debe asistir? Miembros listos para realizar operaciones utilizando el sistema TBD y que deseen operar con la configuración diaria en la sesión del Reino Unido de hoy. \nEn esta sesión\, el equipo Cabin Crew repasará la configuración diaria y hablará sobre la acción reciente del precio\, así como los próximos eventos noticiosos que se deben tener en cuenta.
URL:https://tradetravelchill.club/es/session/sesion-del-reino-unido-8/2025-07-02/
CATEGORIES:Sesión del Reino Unido
ATTACH;FMTTYPE=image/png:https://tradetravelchill.club/wp-content/uploads/2025/05/UK-Session.png
END:VEVENT
BEGIN:VEVENT
DTSTART;TZID=America/New_York:20250702T080000
DTEND;TZID=America/New_York:20250702T083000
DTSTAMP:20260421T221755
CREATED:20250629T075635Z
LAST-MODIFIED:20250629T075635Z
UID:10009444-1751443200-1751445000@tradetravelchill.club
SUMMARY:Sesión de EE. UU
DESCRIPTION:Entrenadores: Cody\, Janet y Mick\n¿Quién debe asistir? Miembros listos para realizar operaciones usando el sistema TBD que desean operar con la configuración diaria en la sesión de EE. UU. de hoy. \nEn esta sesión\, el equipo de la cabina revisará la configuración diaria y discutirá la acción reciente de los precios\, así como los eventos de noticias próximos de los que debe estar al tanto.
URL:https://tradetravelchill.club/es/session/sesion-de-ee-uu-3/2025-07-02/
CATEGORIES:Sesión de EE. UU
ATTACH;FMTTYPE=image/png:https://tradetravelchill.club/wp-content/uploads/2025/05/US-Session.png
END:VEVENT
BEGIN:VEVENT
DTSTART;TZID=America/New_York:20250702T193000
DTEND;TZID=America/New_York:20250702T200000
DTSTAMP:20260421T221755
CREATED:20250629T073411Z
LAST-MODIFIED:20250629T073411Z
UID:10009430-1751484600-1751486400@tradetravelchill.club
SUMMARY:Sesión Asiática
DESCRIPTION:Entrenador: Cody\n¿Quién debe asistir? Miembros listos para realizar operaciones utilizando el sistema TBD y que deseen operar con la configuración diaria en la sesión asiática de hoy. \nEn esta sesión\, el equipo de la cabina revisará la configuración diaria y discutirá la acción reciente de los precios\, así como los eventos de noticias próximos de los que debe estar al tanto.
URL:https://tradetravelchill.club/es/session/sesion-asiatica-2/2025-07-02/
CATEGORIES:Sesión Asiática
ATTACH;FMTTYPE=image/png:https://tradetravelchill.club/wp-content/uploads/2025/05/Asia-Session.png
END:VEVENT
BEGIN:VEVENT
DTSTART;TZID=America/New_York:20250703T023000
DTEND;TZID=America/New_York:20250703T030000
DTSTAMP:20260421T221755
CREATED:20250629T074515Z
LAST-MODIFIED:20250629T074515Z
UID:10009647-1751509800-1751511600@tradetravelchill.club
SUMMARY:Sesión del Reino Unido
DESCRIPTION:Entrenadores: Cody y CajunSpice\n¿Quién debe asistir? Miembros listos para realizar operaciones utilizando el sistema TBD y que deseen operar con la configuración diaria en la sesión del Reino Unido de hoy. \nEn esta sesión\, el equipo Cabin Crew repasará la configuración diaria y hablará sobre la acción reciente del precio\, así como los próximos eventos noticiosos que se deben tener en cuenta.
URL:https://tradetravelchill.club/es/session/sesion-del-reino-unido-8/2025-07-03/
CATEGORIES:Sesión del Reino Unido
ATTACH;FMTTYPE=image/png:https://tradetravelchill.club/wp-content/uploads/2025/05/UK-Session.png
END:VEVENT
BEGIN:VEVENT
DTSTART;TZID=America/New_York:20250703T023000
DTEND;TZID=America/New_York:20250703T040000
DTSTAMP:20260421T221755
CREATED:20250629T082655Z
LAST-MODIFIED:20250629T082655Z
UID:10009424-1751509800-1751515200@tradetravelchill.club
SUMMARY:Sesión de Trading en Vivo
DESCRIPTION:¡Únete a nosotros en sesiones de trading en vivo organizadas por nuestro experimentado equipo de cabina! 🚀 Obtén información en tiempo real sobre los movimientos del mercado\, aprende a identificar los mejores puntos de entrada y comprende las estrategias detrás de cada decisión. Estas sesiones están diseñadas para ayudarte a mejorar tus habilidades de trading y ganar confianza al operar en los mercados.
URL:https://tradetravelchill.club/es/session/sesion-de-trading-en-vivo-8/2025-07-03/
CATEGORIES:Sesión de Trading en Vivo
ATTACH;FMTTYPE=image/png:https://tradetravelchill.club/wp-content/uploads/2025/05/Live-Trading-Session.png
END:VEVENT
BEGIN:VEVENT
DTSTART;TZID=America/New_York:20250703T080000
DTEND;TZID=America/New_York:20250703T083000
DTSTAMP:20260421T221755
CREATED:20250629T075635Z
LAST-MODIFIED:20250629T075635Z
UID:10009445-1751529600-1751531400@tradetravelchill.club
SUMMARY:Sesión de EE. UU
DESCRIPTION:Entrenadores: Cody\, Janet y Mick\n¿Quién debe asistir? Miembros listos para realizar operaciones usando el sistema TBD que desean operar con la configuración diaria en la sesión de EE. UU. de hoy. \nEn esta sesión\, el equipo de la cabina revisará la configuración diaria y discutirá la acción reciente de los precios\, así como los eventos de noticias próximos de los que debe estar al tanto.
URL:https://tradetravelchill.club/es/session/sesion-de-ee-uu-3/2025-07-03/
CATEGORIES:Sesión de EE. UU
ATTACH;FMTTYPE=image/png:https://tradetravelchill.club/wp-content/uploads/2025/05/US-Session.png
END:VEVENT
BEGIN:VEVENT
DTSTART;TZID=America/New_York:20250703T203000
DTEND;TZID=America/New_York:20250703T213000
DTSTAMP:20260421T221755
CREATED:20250629T080800Z
LAST-MODIFIED:20250629T080800Z
UID:10009419-1751574600-1751578200@tradetravelchill.club
SUMMARY:Reunión Comunitaria con Cody
DESCRIPTION:Únete al equipo para debatir un tema del curso y charlar sobre todo lo relacionado con el método.
URL:https://tradetravelchill.club/es/session/reunion-comunitaria-con-cody-5/2025-07-03/
CATEGORIES:Reuniones de la Comunidad
ATTACH;FMTTYPE=image/png:https://tradetravelchill.club/wp-content/uploads/2025/05/Community-Hangout.png
END:VEVENT
BEGIN:VEVENT
DTSTART;TZID=America/New_York:20250704T023000
DTEND;TZID=America/New_York:20250704T030000
DTSTAMP:20260421T221755
CREATED:20250629T074515Z
LAST-MODIFIED:20250629T074515Z
UID:10009468-1751596200-1751598000@tradetravelchill.club
SUMMARY:Sesión del Reino Unido
DESCRIPTION:Entrenadores: Cody y CajunSpice\n¿Quién debe asistir? Miembros listos para realizar operaciones utilizando el sistema TBD y que deseen operar con la configuración diaria en la sesión del Reino Unido de hoy. \nEn esta sesión\, el equipo Cabin Crew repasará la configuración diaria y hablará sobre la acción reciente del precio\, así como los próximos eventos noticiosos que se deben tener en cuenta.
URL:https://tradetravelchill.club/es/session/sesion-del-reino-unido-8/2025-07-04/
CATEGORIES:Sesión del Reino Unido
ATTACH;FMTTYPE=image/png:https://tradetravelchill.club/wp-content/uploads/2025/05/UK-Session.png
END:VEVENT
BEGIN:VEVENT
DTSTART;TZID=America/New_York:20250704T080000
DTEND;TZID=America/New_York:20250704T083000
DTSTAMP:20260421T221755
CREATED:20250629T075635Z
LAST-MODIFIED:20250629T075635Z
UID:10009446-1751616000-1751617800@tradetravelchill.club
SUMMARY:Sesión de EE. UU
DESCRIPTION:Entrenadores: Cody\, Janet y Mick\n¿Quién debe asistir? Miembros listos para realizar operaciones usando el sistema TBD que desean operar con la configuración diaria en la sesión de EE. UU. de hoy. \nEn esta sesión\, el equipo de la cabina revisará la configuración diaria y discutirá la acción reciente de los precios\, así como los eventos de noticias próximos de los que debe estar al tanto.
URL:https://tradetravelchill.club/es/session/sesion-de-ee-uu-3/2025-07-04/
CATEGORIES:Sesión de EE. UU
ATTACH;FMTTYPE=image/png:https://tradetravelchill.club/wp-content/uploads/2025/05/US-Session.png
END:VEVENT
BEGIN:VEVENT
DTSTART;TZID=America/New_York:20250706T193000
DTEND;TZID=America/New_York:20250706T200000
DTSTAMP:20260421T221755
CREATED:20250629T073411Z
LAST-MODIFIED:20250629T073411Z
UID:10009431-1751830200-1751832000@tradetravelchill.club
SUMMARY:Sesión Asiática
DESCRIPTION:Entrenador: Cody\n¿Quién debe asistir? Miembros listos para realizar operaciones utilizando el sistema TBD y que deseen operar con la configuración diaria en la sesión asiática de hoy. \nEn esta sesión\, el equipo de la cabina revisará la configuración diaria y discutirá la acción reciente de los precios\, así como los eventos de noticias próximos de los que debe estar al tanto.
URL:https://tradetravelchill.club/es/session/sesion-asiatica-2/2025-07-06/
CATEGORIES:Sesión Asiática
ATTACH;FMTTYPE=image/png:https://tradetravelchill.club/wp-content/uploads/2025/05/Asia-Session.png
END:VEVENT
BEGIN:VEVENT
DTSTART;TZID=America/New_York:20250707T023000
DTEND;TZID=America/New_York:20250707T030000
DTSTAMP:20260421T221755
CREATED:20250629T074515Z
LAST-MODIFIED:20250629T074515Z
UID:10009469-1751855400-1751857200@tradetravelchill.club
SUMMARY:Sesión del Reino Unido
DESCRIPTION:Entrenadores: Cody y CajunSpice\n¿Quién debe asistir? Miembros listos para realizar operaciones utilizando el sistema TBD y que deseen operar con la configuración diaria en la sesión del Reino Unido de hoy. \nEn esta sesión\, el equipo Cabin Crew repasará la configuración diaria y hablará sobre la acción reciente del precio\, así como los próximos eventos noticiosos que se deben tener en cuenta.
URL:https://tradetravelchill.club/es/session/sesion-del-reino-unido-8/2025-07-07/
CATEGORIES:Sesión del Reino Unido
ATTACH;FMTTYPE=image/png:https://tradetravelchill.club/wp-content/uploads/2025/05/UK-Session.png
END:VEVENT
BEGIN:VEVENT
DTSTART;TZID=America/New_York:20250707T080000
DTEND;TZID=America/New_York:20250707T083000
DTSTAMP:20260421T221756
CREATED:20250629T075635Z
LAST-MODIFIED:20250629T075635Z
UID:10009447-1751875200-1751877000@tradetravelchill.club
SUMMARY:Sesión de EE. UU
DESCRIPTION:Entrenadores: Cody\, Janet y Mick\n¿Quién debe asistir? Miembros listos para realizar operaciones usando el sistema TBD que desean operar con la configuración diaria en la sesión de EE. UU. de hoy. \nEn esta sesión\, el equipo de la cabina revisará la configuración diaria y discutirá la acción reciente de los precios\, así como los eventos de noticias próximos de los que debe estar al tanto.
URL:https://tradetravelchill.club/es/session/sesion-de-ee-uu-3/2025-07-07/
CATEGORIES:Sesión de EE. UU
ATTACH;FMTTYPE=image/png:https://tradetravelchill.club/wp-content/uploads/2025/05/US-Session.png
END:VEVENT
BEGIN:VEVENT
DTSTART;TZID=America/New_York:20250707T203000
DTEND;TZID=America/New_York:20250707T220000
DTSTAMP:20260421T221756
CREATED:20250629T082922Z
LAST-MODIFIED:20250629T082922Z
UID:10009415-1751920200-1751925600@tradetravelchill.club
SUMMARY:Sesión de Trading en Vivo
DESCRIPTION:¡Únete a nosotros en sesiones de trading en vivo organizadas por nuestro experimentado equipo de cabina! 🚀 Obtén información en tiempo real sobre los movimientos del mercado\, aprende a identificar los mejores puntos de entrada y comprende las estrategias detrás de cada decisión. Estas sesiones están diseñadas para ayudarte a mejorar tus habilidades de trading y ganar confianza al operar en los mercados.
URL:https://tradetravelchill.club/es/session/sesion-de-trading-en-vivo-7/2025-07-07/
CATEGORIES:Sesión de Trading en Vivo
ATTACH;FMTTYPE=image/png:https://tradetravelchill.club/wp-content/uploads/2025/05/Live-Trading-Session.png
END:VEVENT
BEGIN:VEVENT
DTSTART;TZID=America/New_York:20250708T023000
DTEND;TZID=America/New_York:20250708T030000
DTSTAMP:20260421T221756
CREATED:20250629T074515Z
LAST-MODIFIED:20250629T074515Z
UID:10009470-1751941800-1751943600@tradetravelchill.club
SUMMARY:Sesión del Reino Unido
DESCRIPTION:Entrenadores: Cody y CajunSpice\n¿Quién debe asistir? Miembros listos para realizar operaciones utilizando el sistema TBD y que deseen operar con la configuración diaria en la sesión del Reino Unido de hoy. \nEn esta sesión\, el equipo Cabin Crew repasará la configuración diaria y hablará sobre la acción reciente del precio\, así como los próximos eventos noticiosos que se deben tener en cuenta.
URL:https://tradetravelchill.club/es/session/sesion-del-reino-unido-8/2025-07-08/
CATEGORIES:Sesión del Reino Unido
ATTACH;FMTTYPE=image/png:https://tradetravelchill.club/wp-content/uploads/2025/05/UK-Session.png
END:VEVENT
BEGIN:VEVENT
DTSTART;TZID=America/New_York:20250708T050000
DTEND;TZID=America/New_York:20250708T060000
DTSTAMP:20260421T221756
CREATED:20250629T080112Z
LAST-MODIFIED:20250629T080112Z
UID:10009411-1751950800-1751954400@tradetravelchill.club
SUMMARY:Reunión Comunitaria con Cajun
DESCRIPTION:Únete al equipo para debatir un tema del curso y charlar sobre todo lo relacionado con el método.
URL:https://tradetravelchill.club/es/session/reunion-comunitaria-con-cajun-4/2025-07-08/
CATEGORIES:Reuniones de la Comunidad
ATTACH;FMTTYPE=image/png:https://tradetravelchill.club/wp-content/uploads/2025/05/Community-Hangout.png
END:VEVENT
BEGIN:VEVENT
DTSTART;TZID=America/New_York:20250708T080000
DTEND;TZID=America/New_York:20250708T083000
DTSTAMP:20260421T221756
CREATED:20250629T075635Z
LAST-MODIFIED:20250629T075635Z
UID:10009448-1751961600-1751963400@tradetravelchill.club
SUMMARY:Sesión de EE. UU
DESCRIPTION:Entrenadores: Cody\, Janet y Mick\n¿Quién debe asistir? Miembros listos para realizar operaciones usando el sistema TBD que desean operar con la configuración diaria en la sesión de EE. UU. de hoy. \nEn esta sesión\, el equipo de la cabina revisará la configuración diaria y discutirá la acción reciente de los precios\, así como los eventos de noticias próximos de los que debe estar al tanto.
URL:https://tradetravelchill.club/es/session/sesion-de-ee-uu-3/2025-07-08/
CATEGORIES:Sesión de EE. UU
ATTACH;FMTTYPE=image/png:https://tradetravelchill.club/wp-content/uploads/2025/05/US-Session.png
END:VEVENT
BEGIN:VEVENT
DTSTART;TZID=America/New_York:20250708T193000
DTEND;TZID=America/New_York:20250708T200000
DTSTAMP:20260421T221756
CREATED:20250629T073411Z
LAST-MODIFIED:20250629T073411Z
UID:10009432-1752003000-1752004800@tradetravelchill.club
SUMMARY:Sesión Asiática
DESCRIPTION:Entrenador: Cody\n¿Quién debe asistir? Miembros listos para realizar operaciones utilizando el sistema TBD y que deseen operar con la configuración diaria en la sesión asiática de hoy. \nEn esta sesión\, el equipo de la cabina revisará la configuración diaria y discutirá la acción reciente de los precios\, así como los eventos de noticias próximos de los que debe estar al tanto.
URL:https://tradetravelchill.club/es/session/sesion-asiatica-2/2025-07-08/
CATEGORIES:Sesión Asiática
ATTACH;FMTTYPE=image/png:https://tradetravelchill.club/wp-content/uploads/2025/05/Asia-Session.png
END:VEVENT
BEGIN:VEVENT
DTSTART;TZID=America/New_York:20250709T023000
DTEND;TZID=America/New_York:20250709T030000
DTSTAMP:20260421T221756
CREATED:20250629T074515Z
LAST-MODIFIED:20250629T074515Z
UID:10009471-1752028200-1752030000@tradetravelchill.club
SUMMARY:Sesión del Reino Unido
DESCRIPTION:Entrenadores: Cody y CajunSpice\n¿Quién debe asistir? Miembros listos para realizar operaciones utilizando el sistema TBD y que deseen operar con la configuración diaria en la sesión del Reino Unido de hoy. \nEn esta sesión\, el equipo Cabin Crew repasará la configuración diaria y hablará sobre la acción reciente del precio\, así como los próximos eventos noticiosos que se deben tener en cuenta.
URL:https://tradetravelchill.club/es/session/sesion-del-reino-unido-8/2025-07-09/
CATEGORIES:Sesión del Reino Unido
ATTACH;FMTTYPE=image/png:https://tradetravelchill.club/wp-content/uploads/2025/05/UK-Session.png
END:VEVENT
BEGIN:VEVENT
DTSTART;TZID=America/New_York:20250709T080000
DTEND;TZID=America/New_York:20250709T083000
DTSTAMP:20260421T221756
CREATED:20250629T075635Z
LAST-MODIFIED:20250629T075635Z
UID:10009449-1752048000-1752049800@tradetravelchill.club
SUMMARY:Sesión de EE. UU
DESCRIPTION:Entrenadores: Cody\, Janet y Mick\n¿Quién debe asistir? Miembros listos para realizar operaciones usando el sistema TBD que desean operar con la configuración diaria en la sesión de EE. UU. de hoy. \nEn esta sesión\, el equipo de la cabina revisará la configuración diaria y discutirá la acción reciente de los precios\, así como los eventos de noticias próximos de los que debe estar al tanto.
URL:https://tradetravelchill.club/es/session/sesion-de-ee-uu-3/2025-07-09/
CATEGORIES:Sesión de EE. UU
ATTACH;FMTTYPE=image/png:https://tradetravelchill.club/wp-content/uploads/2025/05/US-Session.png
END:VEVENT
BEGIN:VEVENT
DTSTART;TZID=America/New_York:20250709T120000
DTEND;TZID=America/New_York:20250709T130000
DTSTAMP:20260421T221756
CREATED:20250629T082323Z
LAST-MODIFIED:20250629T082323Z
UID:10009409-1752062400-1752066000@tradetravelchill.club
SUMMARY:Reunión Macroeconómica
DESCRIPTION:En esta sesión\, Jarrid hablará sobre los diversos factores macroeconómicos que observamos y que son relevantes durante esa semana o mes\, y los relacionará con la acción del precio del cripto y su perspectiva.
URL:https://tradetravelchill.club/es/session/reunion-macroeconomica-3/2025-07-09/
CATEGORIES:Reuniones de la Comunidad
ATTACH;FMTTYPE=image/png:https://tradetravelchill.club/wp-content/uploads/2025/05/Macro-Economy-Call.png
END:VEVENT
BEGIN:VEVENT
DTSTART;TZID=America/New_York:20250709T193000
DTEND;TZID=America/New_York:20250709T200000
DTSTAMP:20260421T221756
CREATED:20250629T073411Z
LAST-MODIFIED:20250629T073411Z
UID:10009433-1752089400-1752091200@tradetravelchill.club
SUMMARY:Sesión Asiática
DESCRIPTION:Entrenador: Cody\n¿Quién debe asistir? Miembros listos para realizar operaciones utilizando el sistema TBD y que deseen operar con la configuración diaria en la sesión asiática de hoy. \nEn esta sesión\, el equipo de la cabina revisará la configuración diaria y discutirá la acción reciente de los precios\, así como los eventos de noticias próximos de los que debe estar al tanto.
URL:https://tradetravelchill.club/es/session/sesion-asiatica-2/2025-07-09/
CATEGORIES:Sesión Asiática
ATTACH;FMTTYPE=image/png:https://tradetravelchill.club/wp-content/uploads/2025/05/Asia-Session.png
END:VEVENT
BEGIN:VEVENT
DTSTART;TZID=America/New_York:20250710T023000
DTEND;TZID=America/New_York:20250710T030000
DTSTAMP:20260421T221756
CREATED:20250629T074515Z
LAST-MODIFIED:20250629T074515Z
UID:10009648-1752114600-1752116400@tradetravelchill.club
SUMMARY:Sesión del Reino Unido
DESCRIPTION:Entrenadores: Cody y CajunSpice\n¿Quién debe asistir? Miembros listos para realizar operaciones utilizando el sistema TBD y que deseen operar con la configuración diaria en la sesión del Reino Unido de hoy. \nEn esta sesión\, el equipo Cabin Crew repasará la configuración diaria y hablará sobre la acción reciente del precio\, así como los próximos eventos noticiosos que se deben tener en cuenta.
URL:https://tradetravelchill.club/es/session/sesion-del-reino-unido-8/2025-07-10/
CATEGORIES:Sesión del Reino Unido
ATTACH;FMTTYPE=image/png:https://tradetravelchill.club/wp-content/uploads/2025/05/UK-Session.png
END:VEVENT
BEGIN:VEVENT
DTSTART;TZID=America/New_York:20250710T023000
DTEND;TZID=America/New_York:20250710T040000
DTSTAMP:20260421T221756
CREATED:20250629T082655Z
LAST-MODIFIED:20250629T082655Z
UID:10009425-1752114600-1752120000@tradetravelchill.club
SUMMARY:Sesión de Trading en Vivo
DESCRIPTION:¡Únete a nosotros en sesiones de trading en vivo organizadas por nuestro experimentado equipo de cabina! 🚀 Obtén información en tiempo real sobre los movimientos del mercado\, aprende a identificar los mejores puntos de entrada y comprende las estrategias detrás de cada decisión. Estas sesiones están diseñadas para ayudarte a mejorar tus habilidades de trading y ganar confianza al operar en los mercados.
URL:https://tradetravelchill.club/es/session/sesion-de-trading-en-vivo-8/2025-07-10/
CATEGORIES:Sesión de Trading en Vivo
ATTACH;FMTTYPE=image/png:https://tradetravelchill.club/wp-content/uploads/2025/05/Live-Trading-Session.png
END:VEVENT
BEGIN:VEVENT
DTSTART;TZID=America/New_York:20250710T080000
DTEND;TZID=America/New_York:20250710T083000
DTSTAMP:20260421T221756
CREATED:20250629T075635Z
LAST-MODIFIED:20250629T075635Z
UID:10009450-1752134400-1752136200@tradetravelchill.club
SUMMARY:Sesión de EE. UU
DESCRIPTION:Entrenadores: Cody\, Janet y Mick\n¿Quién debe asistir? Miembros listos para realizar operaciones usando el sistema TBD que desean operar con la configuración diaria en la sesión de EE. UU. de hoy. \nEn esta sesión\, el equipo de la cabina revisará la configuración diaria y discutirá la acción reciente de los precios\, así como los eventos de noticias próximos de los que debe estar al tanto.
URL:https://tradetravelchill.club/es/session/sesion-de-ee-uu-3/2025-07-10/
CATEGORIES:Sesión de EE. UU
ATTACH;FMTTYPE=image/png:https://tradetravelchill.club/wp-content/uploads/2025/05/US-Session.png
END:VEVENT
BEGIN:VEVENT
DTSTART;TZID=America/New_York:20250710T203000
DTEND;TZID=America/New_York:20250710T213000
DTSTAMP:20260421T221756
CREATED:20250629T080800Z
LAST-MODIFIED:20250629T080800Z
UID:10009420-1752179400-1752183000@tradetravelchill.club
SUMMARY:Reunión Comunitaria con Cody
DESCRIPTION:Únete al equipo para debatir un tema del curso y charlar sobre todo lo relacionado con el método.
URL:https://tradetravelchill.club/es/session/reunion-comunitaria-con-cody-5/2025-07-10/
CATEGORIES:Reuniones de la Comunidad
ATTACH;FMTTYPE=image/png:https://tradetravelchill.club/wp-content/uploads/2025/05/Community-Hangout.png
END:VEVENT
BEGIN:VEVENT
DTSTART;TZID=America/New_York:20250711T023000
DTEND;TZID=America/New_York:20250711T030000
DTSTAMP:20260421T221756
CREATED:20250629T074515Z
LAST-MODIFIED:20250629T074515Z
UID:10009472-1752201000-1752202800@tradetravelchill.club
SUMMARY:Sesión del Reino Unido
DESCRIPTION:Entrenadores: Cody y CajunSpice\n¿Quién debe asistir? Miembros listos para realizar operaciones utilizando el sistema TBD y que deseen operar con la configuración diaria en la sesión del Reino Unido de hoy. \nEn esta sesión\, el equipo Cabin Crew repasará la configuración diaria y hablará sobre la acción reciente del precio\, así como los próximos eventos noticiosos que se deben tener en cuenta.
URL:https://tradetravelchill.club/es/session/sesion-del-reino-unido-8/2025-07-11/
CATEGORIES:Sesión del Reino Unido
ATTACH;FMTTYPE=image/png:https://tradetravelchill.club/wp-content/uploads/2025/05/UK-Session.png
END:VEVENT
BEGIN:VEVENT
DTSTART;TZID=America/New_York:20250711T060000
DTEND;TZID=America/New_York:20250711T073000
DTSTAMP:20260421T221756
CREATED:20250530T121822Z
LAST-MODIFIED:20250704T071502Z
UID:10008901-1752213600-1752219000@tradetravelchill.club
SUMMARY:Charla Relajada con la Entrenadora Cat
DESCRIPTION:Únete a Cat para una charla relajada sobre los demonios que enfrentas al operar y cómo superarlos. Comparte tus dificultades y habla con Cat sobre formas de superar estos obstáculos.
URL:https://tradetravelchill.club/es/session/charla-relajada-con-la-entrenadora-cat-2/2025-07-11/
CATEGORIES:Sesión de Charla Relajada
ATTACH;FMTTYPE=image/png:https://tradetravelchill.club/wp-content/uploads/2025/05/Chill-Chat-Live-Call.png
END:VEVENT
END:VCALENDAR